Workbook

Sheet TCB
A1: TCB - 2011 MPB Update
A2: Area (ha) of MPB Attack Severity by Age Class and Density within Pine Stands (Pine Species >= 30% density - The Pine Mask)
A3: TSA Area | B3: 1484998
A4: Pine Mask Unharvested Area | B4: =SUM(data!D2:D200) -> 482677.78
A6: MPB Attack as a percentage of Pine affected within the VRI Stand
A8: MPB Attack Severity
C9: Light (<11%) | E9: Moderate (11-30%) | G9: Severe (31-50%) | I9: Very Severe (>50%) | K9: All Severity | M9: No Attack
A10: Age Class | B10: Pine Density | C10: Area (ha) | D10: Percent of all Pine (Pine Mask) | E10: Area (ha) | F10: Percent of all Pine (Pine Mask) | G10: Area (ha) | H10: Percent of all Pine (Pine Mask) | I10: Area (ha) | J10: Percent of all Pine (Pine Mask) | K10: Total Area of Attack (ha) | L10: Percent of all Pine (Pine Mask) | M10: Area (ha) | N10: Percent of all Pine (Pine Mask)
A11: 21-40 years | B11: 30-70% | C11: {=SUM(IF(data!A2:A200="21-40 years",IF(data!B2:B200="30-70%",IF(data!C2:C200="Light (<11%)",data!D2:D200,0),0),0))} -> 2260.2234 | D11: =C11/($K$20+$M$20) -> 0.0047730806 | E11: {=SUM(IF(data!A2:A200="21-40 years",IF(data!B2:B200="30-70%",IF(data!C2:C200="Moderate (11-30%)",data!D2:D200,0),0),0))} -> 1348.4485 | F11: =E11/($K$20+$M$20) -> 0.0028476183 | G11: {=SUM(IF(data!A2:A200="21-40 years",IF(data!B2:B200="30-70%",IF(data!C2:C200="Severe (31-50%)",data!D2:D200,0),0),0))} -> 432.03058 | H11: =G11/($K$20+$M$20) -> 0.00091235088 | I11: {=SUM(IF(data!A2:A200="21-40 years",IF(data!B2:B200="30-70%",IF(data!C2:C200="Very Severe (>50%)",data!D2:D200,0),0),0))} -> 423.59557 | J11: =I11/($K$20+$M$20) -> 0.00089453805 | K11: =SUM(C11,E11,G11,I11) -> 4464.2981 | L11: =K11/($K$20+$M$20) -> 0.0094275879 | M11: {=SUM(IF(data!A2:A200="21-40 years",IF(data!B2:B200="30-70%",IF(data!C2:C200="No Attack",data!D2:D200,0),0),0))} -> 13218.38 | N11: =M11/($K$20+$M$20) -> 0.027914229
B12: >70% | C12: {=SUM(IF(data!A2:A200="21-40 years",IF(data!B2:B200=">70%",IF(data!C2:C200="Light (<11%)",data!D2:D200,0),0),0))} -> 2234.1892 | D12: =C12/($K$20+$M$20) -> 0.0047181024 | E12: {=SUM(IF(data!A2:A200="21-40 years",IF(data!B2:B200=">70%",IF(data!C2:C200="Moderate (11-30%)",data!D2:D200,0),0),0))} -> 1184.4607 | F12: =E12/($K$20+$M$20) -> 0.0025013131 | G12: {=SUM(IF(data!A2:A200="21-40 years",IF(data!B2:B200=">70%",IF(data!C2:C200="Severe (31-50%)",data!D2:D200,0),0),0))} -> 373.68483 | H12: =G12/($K$20+$M$20) -> 0.00078913784 | I12: {=SUM(IF(data!A2:A200="21-40 years",IF(data!B2:B200=">70%",IF(data!C2:C200="Very Severe (>50%)",data!D2:D200,0),0),0))} -> 459.46336 | J12: =I12/($K$20+$M$20) -> 0.00097028271 | K12: =SUM(C12,E12,G12,I12) -> 4251.7981 | L12: =K12/($K$20+$M$20) -> 0.0089788361 | M12: {=SUM(IF(data!A2:A200="21-40 years",IF(data!B2:B200=">70%",IF(data!C2:C200="No Attack",data!D2:D200,0),0),0))} -> 12261.238 | N12: =M12/($K$20+$M$20) -> 0.025892961
A14: 41-60 years | B14: 30-70% | C14: {=SUM(IF(data!A2:A200="41-60 years",IF(data!B2:B200="30-70%",IF(data!C2:C200="Light (<11%)",data!D2:D200,0),0),0))} -> 1181.8253 | D14: =C14/($K$20+$M$20) -> 0.0024957478 | E14: {=SUM(IF(data!A2:A200="41-60 years",IF(data!B2:B200="30-70%",IF(data!C2:C200="Moderate (11-30%)",data!D2:D200,0),0),0))} -> 839.13846 | F14: =E14/($K$20+$M$20) -> 0.0017720706 | G14: {=SUM(IF(data!A2:A200="41-60 years",IF(data!B2:B200="30-70%",IF(data!C2:C200="Severe (31-50%)",data!D2:D200,0),0),0))} -> 305.65777 | H14: =G14/($K$20+$M$20) -> 0.00064548009 | I14: {=SUM(IF(data!A2:A200="41-60 years",IF(data!B2:B200="30-70%",IF(data!C2:C200="Very Severe (>50%)",data!D2:D200,0),0),0))} -> 763.58869 | J14: =I14/($K$20+$M$20) -> 0.0016125266 | K14: =SUM(C14,E14,G14,I14) -> 3090.2102 | L14: =K14/($K$20+$M$20) -> 0.0065258251 | M14: {=SUM(IF(data!A2:A200="41-60 years",IF(data!B2:B200="30-70%",IF(data!C2:C200="No Attack",data!D2:D200,0),0),0))} -> 8676.4623 | N14: =M14/($K$20+$M$20) -> 0.018322726
B15: >70% | C15: {=SUM(IF(data!A2:A200="41-60 years",IF(data!B2:B200=">70%",IF(data!C2:C200="Light (<11%)",data!D2:D200,0),0),0))} -> 814.29539 | D15: =C15/($K$20+$M$20) -> 0.0017196077 | E15: {=SUM(IF(data!A2:A200="41-60 years",IF(data!B2:B200=">70%",IF(data!C2:C200="Moderate (11-30%)",data!D2:D200,0),0),0))} -> 986.77809 | F15: =E15/($K$20+$M$20) -> 0.0020838522 | G15: {=SUM(IF(data!A2:A200="41-60 years",IF(data!B2:B200=">70%",IF(data!C2:C200="Severe (31-50%)",data!D2:D200,0),0),0))} -> 515.13334 | H15: =G15/($K$20+$M$20) -> 0.0010878451 | I15: {=SUM(IF(data!A2:A200="41-60 years",IF(data!B2:B200=">70%",IF(data!C2:C200="Very Severe (>50%)",data!D2:D200,0),0),0))} -> 762.30589 | J15: =I15/($K$20+$M$20) -> 0.0016098177 | K15: =SUM(C15,E15,G15,I15) -> 3078.5127 | L15: =K15/($K$20+$M$20) -> 0.0065011226 | M15: {=SUM(IF(data!A2:A200="41-60 years",IF(data!B2:B200=">70%",IF(data!C2:C200="No Attack",data!D2:D200,0),0),0))} -> 10549.815 | N15: =M15/($K$20+$M$20) -> 0.022278824
A17: >60 years | B17: 30-70% | C17: {=SUM(IF(data!A2:A200=">60 years",IF(data!B2:B200="30-70%",IF(data!C2:C200="Light (<11%)",data!D2:D200,0),0),0))} -> 11275.305 | D17: =C17/($K$20+$M$20) -> 0.023810895 | E17: {=SUM(IF(data!A2:A200=">60 years",IF(data!B2:B200="30-70%",IF(data!C2:C200="Moderate (11-30%)",data!D2:D200,0),0),0))} -> 13120.672 | F17: =E17/($K$20+$M$20) -> 0.027707893 | G17: {=SUM(IF(data!A2:A200=">60 years",IF(data!B2:B200="30-70%",IF(data!C2:C200="Severe (31-50%)",data!D2:D200,0),0),0))} -> 9987.5901 | H17: =G17/($K$20+$M$20) -> 0.021091532 | I17: {=SUM(IF(data!A2:A200=">60 years",IF(data!B2:B200="30-70%",IF(data!C2:C200="Very Severe (>50%)",data!D2:D200,0),0),0))} -> 18598.199 | J17: =I17/($K$20+$M$20) -> 0.03927519 | K17: =SUM(C17,E17,G17,I17) -> 52981.766 | L17: =K17/($K$20+$M$20) -> 0.11188551 | M17: {=SUM(IF(data!A2:A200=">60 years",IF(data!B2:B200="30-70%",IF(data!C2:C200="No Attack",data!D2:D200,0),0),0))} -> 124569.36 | N17: =M17/($K$20+$M$20) -> 0.26306232
B18: >70% | C18: {=SUM(IF(data!A2:A200=">60 years",IF(data!B2:B200=">70%",IF(data!C2:C200="Light (<11%)",data!D2:D200,0),0),0))} -> 21032.987 | D18: =C18/($K$20+$M$20) -> 0.044416913 | E18: {=SUM(IF(data!A2:A200=">60 years",IF(data!B2:B200=">70%",IF(data!C2:C200="Moderate (11-30%)",data!D2:D200,0),0),0))} -> 24558.782 | F18: =E18/($K$20+$M$20) -> 0.051862594 | G18: {=SUM(IF(data!A2:A200=">60 years",IF(data!B2:B200=">70%",IF(data!C2:C200="Severe (31-50%)",data!D2:D200,0),0),0))} -> 14561.093 | H18: =G18/($K$20+$M$20) -> 0.030749736 | I18: {=SUM(IF(data!A2:A200=">60 years",IF(data!B2:B200=">70%",IF(data!C2:C200="Very Severe (>50%)",data!D2:D200,0),0),0))} -> 25435.259 | J18: =I18/($K$20+$M$20) -> 0.053713514 | K18: =SUM(C18,E18,G18,I18) -> 85588.122 | L18: =K18/($K$20+$M$20) -> 0.18074276 | M18: {=SUM(IF(data!A2:A200=">60 years",IF(data!B2:B200=">70%",IF(data!C2:C200="No Attack",data!D2:D200,0),0),0))} -> 150805.59 | N18: =M18/($K$20+$M$20) -> 0.31846731
A20: Total | C20: =SUM(C11:C18) -> 38798.826 | D20: =C20/($K$20+$M$20) -> 0.081934346 | E20: =SUM(E11:E18) -> 42038.28 | F20: =E20/($K$20+$M$20) -> 0.088775341 | G20: =SUM(G11:G18) -> 26175.19 | H20: =G20/($K$20+$M$20) -> 0.055276081 | I20: =SUM(I11:I18) -> 46442.411 | J20: =I20/($K$20+$M$20) -> 0.098075869 | K20: =SUM(K11:K18) -> 153454.71 | L20: =SUM(L11:L18) -> 0.32406164 | M20: =SUM(M11:M18) -> 320080.85 | N20: =SUM(N11:N18) -> 0.67593836

Sheet data
A1: Age Class | B1: Pine Density | C1: MPB Attack Severity | D1: Sum Of area_ha
A2: <21 years | B2: >70% | C2: Light (<11%) | D2: 63.237749
A3: <21 years | B3: >70% | C3: Light (<11%) | D3: 462.3736
A4: <21 years | B4: >70% | C4: Moderate (11-30%) | D4: 12.942833
A5: <21 years | B5: >70% | C5: Moderate (11-30%) | D5: 146.57739
A6: <21 years | B6: >70% | C6: No Attack | D6: 2384.9072
A7: <21 years | B7: >70% | C7: No Attack | D7: 86.471424
A8: <21 years | B8: >70% | C8: No Attack | D8: 108.47866
A9: <21 years | B9: >70% | C9: No Attack | D9: 47.972442
A10: <21 years | B10: >70% | C10: Severe (31-50%) | D10: 10.450577
A11: <21 years | B11: >70% | C11: Very Severe (>50%) | D11: 11.884095
A12: <21 years | B12: >70% | C12: Very Severe (>50%) | D12: 124.25078
A13: <21 years | B13: 30-70% | C13: Light (<11%) | D13: 428.20888
... A113: 41-60 years | B113: 30-70% | C113: Very Severe (>50%) | D113: 9.509299

Sheet Sheet3
